BEGIN:VCALENDAR
VERSION:2.0
PRODID:-//Austrian Association of Occupational Science - ECPv6.15.20//NONSGML v1.0//EN
CALSCALE:GREGORIAN
METHOD:PUBLISH
X-ORIGINAL-URL:https://austrianoccupationalscience.com
X-WR-CALDESC:Veranstaltungen für Austrian Association of Occupational Science
REFRESH-INTERVAL;VALUE=DURATION:PT1H
X-Robots-Tag:noindex
X-PUBLISHED-TTL:PT1H
BEGIN:VTIMEZONE
TZID:Europe/Vienna
BEGIN:DAYLIGHT
TZOFFSETFROM:+0100
TZOFFSETTO:+0200
TZNAME:CEST
DTSTART:20190331T010000
END:DAYLIGHT
BEGIN:STANDARD
TZOFFSETFROM:+0200
TZOFFSETTO:+0100
TZNAME:CET
DTSTART:20191027T010000
END:STANDARD
BEGIN:DAYLIGHT
TZOFFSETFROM:+0100
TZOFFSETTO:+0200
TZNAME:CEST
DTSTART:20200329T010000
END:DAYLIGHT
BEGIN:STANDARD
TZOFFSETFROM:+0200
TZOFFSETTO:+0100
TZNAME:CET
DTSTART:20201025T010000
END:STANDARD
BEGIN:DAYLIGHT
TZOFFSETFROM:+0100
TZOFFSETTO:+0200
TZNAME:CEST
DTSTART:20210328T010000
END:DAYLIGHT
BEGIN:STANDARD
TZOFFSETFROM:+0200
TZOFFSETTO:+0100
TZNAME:CET
DTSTART:20211031T010000
END:STANDARD
BEGIN:DAYLIGHT
TZOFFSETFROM:+0100
TZOFFSETTO:+0200
TZNAME:CEST
DTSTART:20220327T010000
END:DAYLIGHT
BEGIN:STANDARD
TZOFFSETFROM:+0200
TZOFFSETTO:+0100
TZNAME:CET
DTSTART:20221030T010000
END:STANDARD
BEGIN:DAYLIGHT
TZOFFSETFROM:+0100
TZOFFSETTO:+0200
TZNAME:CEST
DTSTART:20230326T010000
END:DAYLIGHT
BEGIN:STANDARD
TZOFFSETFROM:+0200
TZOFFSETTO:+0100
TZNAME:CET
DTSTART:20231029T010000
END:STANDARD
BEGIN:DAYLIGHT
TZOFFSETFROM:+0100
TZOFFSETTO:+0200
TZNAME:CEST
DTSTART:20240331T010000
END:DAYLIGHT
BEGIN:STANDARD
TZOFFSETFROM:+0200
TZOFFSETTO:+0100
TZNAME:CET
DTSTART:20241027T010000
END:STANDARD
BEGIN:DAYLIGHT
TZOFFSETFROM:+0100
TZOFFSETTO:+0200
TZNAME:CEST
DTSTART:20250330T010000
END:DAYLIGHT
BEGIN:STANDARD
TZOFFSETFROM:+0200
TZOFFSETTO:+0100
TZNAME:CET
DTSTART:20251026T010000
END:STANDARD
BEGIN:DAYLIGHT
TZOFFSETFROM:+0100
TZOFFSETTO:+0200
TZNAME:CEST
DTSTART:20260329T010000
END:DAYLIGHT
BEGIN:STANDARD
TZOFFSETFROM:+0200
TZOFFSETTO:+0100
TZNAME:CET
DTSTART:20261025T010000
END:STANDARD
BEGIN:DAYLIGHT
TZOFFSETFROM:+0100
TZOFFSETTO:+0200
TZNAME:CEST
DTSTART:20270328T010000
END:DAYLIGHT
BEGIN:STANDARD
TZOFFSETFROM:+0200
TZOFFSETTO:+0100
TZNAME:CET
DTSTART:20271031T010000
END:STANDARD
END:VTIMEZONE
BEGIN:VEVENT
DTSTART;TZID=Europe/Vienna:20260408T170000
DTEND;TZID=Europe/Vienna:20260408T180000
DTSTAMP:20260421T211316
CREATED:20260403T085043Z
LAST-MODIFIED:20260403T085426Z
UID:6472-1775667600-1775671200@austrianoccupationalscience.com
SUMMARY:Denkraum "Geschlechterrollen in der Ergotherapie aus handlungswissenschaftlicher Sicht" - ohne Voranmeldung
DESCRIPTION:Herzliche Einladung zum Denkraum zum Thema "Geschlechterrollen in der Ergotherapie aus handlungswissenschaftlicher Sicht" am 08.04.. Ganz ohne Anmeldung einfach über den folgenden Link via Zoom einsteigen: https://zoom.us/j/92032600524Wir freuen uns auf Euer Kommen!
URL:https://austrianoccupationalscience.com/event/denkraum/
END:VEVENT
BEGIN:VEVENT
DTSTART;TZID=Europe/Vienna:20260312T170000
DTEND;TZID=Europe/Vienna:20260312T183000
DTSTAMP:20260421T211316
CREATED:20260213T065454Z
LAST-MODIFIED:20260213T065750Z
UID:6434-1773334800-1773340200@austrianoccupationalscience.com
SUMMARY:Generalversammlung
DESCRIPTION:Herzliche Einladung zum Denkraum zum Thema "Geschlechterrollen in der Ergotherapie aus handlungswissenschaftlicher Sicht" am 08.04.. Ganz ohne Anmeldung einfach über den folgenden Link via Zoom einsteigen: https://zoom.us/j/92032600524Wir freuen uns auf Euer Kommen!
URL:https://austrianoccupationalscience.com/event/generalversammlung-3/
END:VEVENT
BEGIN:VEVENT
DTSTART;TZID=Europe/Vienna:20251212T000000
DTEND;TZID=Europe/Vienna:20251213T235959
DTSTAMP:20260421T211316
CREATED:20251006T081410Z
LAST-MODIFIED:20251125T071122Z
UID:6117-1765497600-1765670399@austrianoccupationalscience.com
SUMMARY:O'Science Day - Handlungswissenschaftliche Zugänge zu Themen der Gegenwart und Zukunft
DESCRIPTION:Herzliche Einladung zum Denkraum zum Thema "Geschlechterrollen in der Ergotherapie aus handlungswissenschaftlicher Sicht" am 08.04.. Ganz ohne Anmeldung einfach über den folgenden Link via Zoom einsteigen: https://zoom.us/j/92032600524Wir freuen uns auf Euer Kommen!
URL:https://austrianoccupationalscience.com/event/oscience-day-handlungswissenschaftliche-zugaenge-zu-themen-der-gegenwart-und-zukunft/
END:VEVENT
BEGIN:VEVENT
DTSTART;TZID=Europe/Vienna:20250122T180000
DTEND;TZID=Europe/Vienna:20250122T193000
DTSTAMP:20260421T211316
CREATED:20241021T063753Z
LAST-MODIFIED:20241021T063755Z
UID:5536-1737568800-1737574200@austrianoccupationalscience.com
SUMMARY:Generalversammlung
DESCRIPTION:Herzliche Einladung zum Denkraum zum Thema "Geschlechterrollen in der Ergotherapie aus handlungswissenschaftlicher Sicht" am 08.04.. Ganz ohne Anmeldung einfach über den folgenden Link via Zoom einsteigen: https://zoom.us/j/92032600524Wir freuen uns auf Euer Kommen!
URL:https://austrianoccupationalscience.com/event/generalversammlung-2/
END:VEVENT
BEGIN:VEVENT
DTSTART;TZID=Europe/Vienna:20241122T140000
DTEND;TZID=Europe/Vienna:20241122T183000
DTSTAMP:20260421T211316
CREATED:20231123T083439Z
LAST-MODIFIED:20240923T142607Z
UID:4154-1732284000-1732300200@austrianoccupationalscience.com
SUMMARY:O'Science Day 2024: „Handlungswissenschaft und künstliche Intelligenz - wie verändert künstliche Intelligenz unsere Handlungen und unseren Alltag?“
DESCRIPTION:Herzliche Einladung zum Denkraum zum Thema "Geschlechterrollen in der Ergotherapie aus handlungswissenschaftlicher Sicht" am 08.04.. Ganz ohne Anmeldung einfach über den folgenden Link via Zoom einsteigen: https://zoom.us/j/92032600524Wir freuen uns auf Euer Kommen!
URL:https://austrianoccupationalscience.com/event/oscience-day-2024-2/
CATEGORIES:O'Science Day
END:VEVENT
BEGIN:VEVENT
DTSTART;TZID=Europe/Vienna:20241010T173000
DTEND;TZID=Europe/Vienna:20241010T190000
DTSTAMP:20260421T211316
CREATED:20231123T083152Z
LAST-MODIFIED:20240924T090954Z
UID:4150-1728581400-1728586800@austrianoccupationalscience.com
SUMMARY:Mitgliedertreffen 2/2024
DESCRIPTION:Herzliche Einladung zum Denkraum zum Thema "Geschlechterrollen in der Ergotherapie aus handlungswissenschaftlicher Sicht" am 08.04.. Ganz ohne Anmeldung einfach über den folgenden Link via Zoom einsteigen: https://zoom.us/j/92032600524Wir freuen uns auf Euer Kommen!
URL:https://austrianoccupationalscience.com/event/mitgliedertreffen-2-2024/
CATEGORIES:Mitgliedertreffen
END:VEVENT
BEGIN:VEVENT
DTSTART;TZID=Europe/Vienna:20240418T173000
DTEND;TZID=Europe/Vienna:20240418T190000
DTSTAMP:20260421T211316
CREATED:20231123T082850Z
LAST-MODIFIED:20240401T141223Z
UID:4142-1713461400-1713466800@austrianoccupationalscience.com
SUMMARY:Mitgliedertreffen 1/2024: „Handlungswissenschaft und Planetare Gesundheit“
DESCRIPTION:Herzliche Einladung zum Denkraum zum Thema "Geschlechterrollen in der Ergotherapie aus handlungswissenschaftlicher Sicht" am 08.04.. Ganz ohne Anmeldung einfach über den folgenden Link via Zoom einsteigen: https://zoom.us/j/92032600524Wir freuen uns auf Euer Kommen!
URL:https://austrianoccupationalscience.com/event/mitgliedertreffen-1-2024/
CATEGORIES:Mitgliedertreffen
ATTACH;FMTTYPE=image/jpeg:https://austrianoccupationalscience.com/wp-content/uploads/2023/11/2024-02-28_Mitgliedertreffen.jpg
END:VEVENT
BEGIN:VEVENT
DTSTART;TZID=Europe/Vienna:20240313T180000
DTEND;TZID=Europe/Vienna:20240313T193000
DTSTAMP:20260421T211316
CREATED:20231123T083823Z
LAST-MODIFIED:20231123T083826Z
UID:4159-1710352800-1710358200@austrianoccupationalscience.com
SUMMARY:Webinar zum Thema „Betätigungsbalance“ angeboten über Ergotherapie Austria
DESCRIPTION:Herzliche Einladung zum Denkraum zum Thema "Geschlechterrollen in der Ergotherapie aus handlungswissenschaftlicher Sicht" am 08.04.. Ganz ohne Anmeldung einfach über den folgenden Link via Zoom einsteigen: https://zoom.us/j/92032600524Wir freuen uns auf Euer Kommen!
URL:https://austrianoccupationalscience.com/event/webinar-zum-thema-betaetigungsbalance-angeboten-ueber-ergotherapie-austria/
CATEGORIES:Weitere Veranstaltungen
END:VEVENT
BEGIN:VEVENT
DTSTART;TZID=Europe/Vienna:20240125T180000
DTEND;TZID=Europe/Vienna:20240125T193000
DTSTAMP:20260421T211316
CREATED:20230408T184921Z
LAST-MODIFIED:20230408T184923Z
UID:3367-1706205600-1706211000@austrianoccupationalscience.com
SUMMARY:4. Generalversammlung
DESCRIPTION:Herzliche Einladung zum Denkraum zum Thema "Geschlechterrollen in der Ergotherapie aus handlungswissenschaftlicher Sicht" am 08.04.. Ganz ohne Anmeldung einfach über den folgenden Link via Zoom einsteigen: https://zoom.us/j/92032600524Wir freuen uns auf Euer Kommen!
URL:https://austrianoccupationalscience.com/event/4-generalversammlung/
CATEGORIES:Generalversammlung
END:VEVENT
BEGIN:VEVENT
DTSTART;TZID=Europe/Vienna:20231130T140000
DTEND;TZID=Europe/Vienna:20231130T183000
DTSTAMP:20260421T211316
CREATED:20230408T184338Z
LAST-MODIFIED:20230919T144909Z
UID:3361-1701352800-1701369000@austrianoccupationalscience.com
SUMMARY:O'Science Day 2023
DESCRIPTION:Herzliche Einladung zum Denkraum zum Thema "Geschlechterrollen in der Ergotherapie aus handlungswissenschaftlicher Sicht" am 08.04.. Ganz ohne Anmeldung einfach über den folgenden Link via Zoom einsteigen: https://zoom.us/j/92032600524Wir freuen uns auf Euer Kommen!
URL:https://austrianoccupationalscience.com/event/oscience-day-2023/
CATEGORIES:O'Science Day
END:VEVENT
BEGIN:VEVENT
DTSTART;TZID=Europe/Vienna:20231004T183000
DTEND;TZID=Europe/Vienna:20231004T200000
DTSTAMP:20260421T211316
CREATED:20230408T182320Z
LAST-MODIFIED:20230408T182936Z
UID:3337-1696444200-1696449600@austrianoccupationalscience.com
SUMMARY:Online: Vorstellung Austrian Association of Occupational Science (AOS)
DESCRIPTION:Herzliche Einladung zum Denkraum zum Thema "Geschlechterrollen in der Ergotherapie aus handlungswissenschaftlicher Sicht" am 08.04.. Ganz ohne Anmeldung einfach über den folgenden Link via Zoom einsteigen: https://zoom.us/j/92032600524Wir freuen uns auf Euer Kommen!
URL:https://austrianoccupationalscience.com/event/online-vorstellung-austrian-association-of-occupational-science-aos/
CATEGORIES:Weitere Veranstaltungen
END:VEVENT
BEGIN:VEVENT
DTSTART;TZID=Europe/Vienna:20230925T173000
DTEND;TZID=Europe/Vienna:20230925T183000
DTSTAMP:20260421T211316
CREATED:20230830T133915Z
LAST-MODIFIED:20230830T133918Z
UID:3778-1695663000-1695666600@austrianoccupationalscience.com
SUMMARY:Außerordentliche Generalversammlung
DESCRIPTION:Herzliche Einladung zum Denkraum zum Thema "Geschlechterrollen in der Ergotherapie aus handlungswissenschaftlicher Sicht" am 08.04.. Ganz ohne Anmeldung einfach über den folgenden Link via Zoom einsteigen: https://zoom.us/j/92032600524Wir freuen uns auf Euer Kommen!
URL:https://austrianoccupationalscience.com/event/ausserordentliche-generalversammlung/
CATEGORIES:Generalversammlung
END:VEVENT
BEGIN:VEVENT
DTSTART;TZID=Europe/Vienna:20230915T170000
DTEND;TZID=Europe/Vienna:20230915T183000
DTSTAMP:20260421T211316
CREATED:20230408T183921Z
LAST-MODIFIED:20230904T134810Z
UID:3355-1694797200-1694802600@austrianoccupationalscience.com
SUMMARY:Mitgliedertreffen September 2023
DESCRIPTION:Herzliche Einladung zum Denkraum zum Thema "Geschlechterrollen in der Ergotherapie aus handlungswissenschaftlicher Sicht" am 08.04.. Ganz ohne Anmeldung einfach über den folgenden Link via Zoom einsteigen: https://zoom.us/j/92032600524Wir freuen uns auf Euer Kommen!
URL:https://austrianoccupationalscience.com/event/mitgliedertreffen-september-2023/
CATEGORIES:Mitgliedertreffen
END:VEVENT
BEGIN:VEVENT
DTSTART;TZID=Europe/Vienna:20230622T173000
DTEND;TZID=Europe/Vienna:20230622T190000
DTSTAMP:20260421T211316
CREATED:20230327T164613Z
LAST-MODIFIED:20230517T153643Z
UID:3309-1687455000-1687460400@austrianoccupationalscience.com
SUMMARY:Mitgliedertreffen Juni 2023
DESCRIPTION:Herzliche Einladung zum Denkraum zum Thema "Geschlechterrollen in der Ergotherapie aus handlungswissenschaftlicher Sicht" am 08.04.. Ganz ohne Anmeldung einfach über den folgenden Link via Zoom einsteigen: https://zoom.us/j/92032600524Wir freuen uns auf Euer Kommen!
URL:https://austrianoccupationalscience.com/event/mitgliedertreffen-mai-2023/
CATEGORIES:Mitgliedertreffen
ATTACH;FMTTYPE=image/jpeg:https://austrianoccupationalscience.com/wp-content/uploads/2023/03/1.-Mitgliedertreffen-2023.jpg
END:VEVENT
BEGIN:VEVENT
DTSTART;TZID=Europe/Vienna:20230119T180000
DTEND;TZID=Europe/Vienna:20230119T200000
DTSTAMP:20260421T211316
CREATED:20221017T181042Z
LAST-MODIFIED:20221017T181044Z
UID:3087-1674151200-1674158400@austrianoccupationalscience.com
SUMMARY:3. Generalversammlung inkl. Wahl des neuen AOS-Vorstands (german)
DESCRIPTION:Herzliche Einladung zum Denkraum zum Thema "Geschlechterrollen in der Ergotherapie aus handlungswissenschaftlicher Sicht" am 08.04.. Ganz ohne Anmeldung einfach über den folgenden Link via Zoom einsteigen: https://zoom.us/j/92032600524Wir freuen uns auf Euer Kommen!
URL:https://austrianoccupationalscience.com/event/3-generalversammlung-inkl-wahl-des-neuen-aos-vorstands-german/
CATEGORIES:Mitgliedertreffen
END:VEVENT
BEGIN:VEVENT
DTSTART;TZID=Europe/Vienna:20230119T180000
DTEND;TZID=Europe/Vienna:20230119T200000
DTSTAMP:20260421T211316
CREATED:20221017T180505Z
LAST-MODIFIED:20221017T180820Z
UID:3081-1674151200-1674158400@austrianoccupationalscience.com
SUMMARY:3. Generalversammlung inkl. Wahl des neuen AOS-Vorstands
DESCRIPTION:Herzliche Einladung zum Denkraum zum Thema "Geschlechterrollen in der Ergotherapie aus handlungswissenschaftlicher Sicht" am 08.04.. Ganz ohne Anmeldung einfach über den folgenden Link via Zoom einsteigen: https://zoom.us/j/92032600524Wir freuen uns auf Euer Kommen!
URL:https://austrianoccupationalscience.com/event/3-generalversammlung-inkl-wahl-des-neuen-aos-vorstands/
CATEGORIES:Mitgliedertreffen
END:VEVENT
BEGIN:VEVENT
DTSTART;TZID=Europe/Vienna:20221125T140000
DTEND;TZID=Europe/Vienna:20221125T140000
DTSTAMP:20260421T211316
CREATED:20220124T072521Z
LAST-MODIFIED:20221122T073511Z
UID:2391-1669384800-1669384800@austrianoccupationalscience.com
SUMMARY:O'Science Day 2022
DESCRIPTION:Herzliche Einladung zum Denkraum zum Thema "Geschlechterrollen in der Ergotherapie aus handlungswissenschaftlicher Sicht" am 08.04.. Ganz ohne Anmeldung einfach über den folgenden Link via Zoom einsteigen: https://zoom.us/j/92032600524Wir freuen uns auf Euer Kommen!
URL:https://austrianoccupationalscience.com/event/3-oscience-day/
CATEGORIES:O'Science Day
ATTACH;FMTTYPE=image/png:https://austrianoccupationalscience.com/wp-content/uploads/2022/01/Grafik_OScience-Day-2022_Homepage.png
END:VEVENT
BEGIN:VEVENT
DTSTART;TZID=Europe/Vienna:20220930T170000
DTEND;TZID=Europe/Vienna:20220930T183000
DTSTAMP:20260421T211316
CREATED:20220124T071604Z
LAST-MODIFIED:20220326T100016Z
UID:2386-1664557200-1664562600@austrianoccupationalscience.com
SUMMARY:Mitgliedertreffen Herbst 2022
DESCRIPTION:Herzliche Einladung zum Denkraum zum Thema "Geschlechterrollen in der Ergotherapie aus handlungswissenschaftlicher Sicht" am 08.04.. Ganz ohne Anmeldung einfach über den folgenden Link via Zoom einsteigen: https://zoom.us/j/92032600524Wir freuen uns auf Euer Kommen!
URL:https://austrianoccupationalscience.com/event/4-mitgliedertreffen/
CATEGORIES:Mitgliedertreffen
ATTACH;FMTTYPE=image/png:https://austrianoccupationalscience.com/wp-content/uploads/2022/01/Grafik_Mitgliedertreffen-4_Homepage.png
END:VEVENT
BEGIN:VEVENT
DTSTART;TZID=Europe/Vienna:20220429T170000
DTEND;TZID=Europe/Vienna:20220429T183000
DTSTAMP:20260421T211316
CREATED:20220124T070239Z
LAST-MODIFIED:20220326T094400Z
UID:2381-1651251600-1651257000@austrianoccupationalscience.com
SUMMARY:Mitgliedertreffen Frühjahr 2022
DESCRIPTION:Herzliche Einladung zum Denkraum zum Thema "Geschlechterrollen in der Ergotherapie aus handlungswissenschaftlicher Sicht" am 08.04.. Ganz ohne Anmeldung einfach über den folgenden Link via Zoom einsteigen: https://zoom.us/j/92032600524Wir freuen uns auf Euer Kommen!
URL:https://austrianoccupationalscience.com/event/3-mitgliedertreffen/
CATEGORIES:Mitgliedertreffen
ATTACH;FMTTYPE=image/png:https://austrianoccupationalscience.com/wp-content/uploads/2022/01/Grafik_Mitgliedertreffen-3_Homepage.png
END:VEVENT
BEGIN:VEVENT
DTSTART;TZID=Europe/Vienna:20220120T180000
DTEND;TZID=Europe/Vienna:20220120T200000
DTSTAMP:20260421T211316
CREATED:20210714T071746Z
LAST-MODIFIED:20220123T173959Z
UID:1409-1642701600-1642708800@austrianoccupationalscience.com
SUMMARY:Generalversammlung
DESCRIPTION:Herzliche Einladung zum Denkraum zum Thema "Geschlechterrollen in der Ergotherapie aus handlungswissenschaftlicher Sicht" am 08.04.. Ganz ohne Anmeldung einfach über den folgenden Link via Zoom einsteigen: https://zoom.us/j/92032600524Wir freuen uns auf Euer Kommen!
URL:https://austrianoccupationalscience.com/event/generalversammlung/
CATEGORIES:Generalversammlung
ATTACH;FMTTYPE=image/jpeg:https://austrianoccupationalscience.com/wp-content/uploads/2021/07/988D78E8-F9CE-4795-8A0F-DA46919F0912.jpeg
END:VEVENT
BEGIN:VEVENT
DTSTART;TZID=Europe/Vienna:20211125T140000
DTEND;TZID=Europe/Vienna:20211125T183000
DTSTAMP:20260421T211316
CREATED:20210714T071529Z
LAST-MODIFIED:20220123T174021Z
UID:1404-1637848800-1637865000@austrianoccupationalscience.com
SUMMARY:O’Science Day 2021
DESCRIPTION:Herzliche Einladung zum Denkraum zum Thema "Geschlechterrollen in der Ergotherapie aus handlungswissenschaftlicher Sicht" am 08.04.. Ganz ohne Anmeldung einfach über den folgenden Link via Zoom einsteigen: https://zoom.us/j/92032600524Wir freuen uns auf Euer Kommen!
URL:https://austrianoccupationalscience.com/event/oscience-day-2021/
CATEGORIES:O'Science Day
ATTACH;FMTTYPE=image/png:https://austrianoccupationalscience.com/wp-content/uploads/2021/07/Save-the-Date-OS-Day_12.10..png
END:VEVENT
BEGIN:VEVENT
DTSTART;TZID=Europe/Vienna:20211022T170000
DTEND;TZID=Europe/Vienna:20211022T183000
DTSTAMP:20260421T211316
CREATED:20210928T152135Z
LAST-MODIFIED:20220123T174033Z
UID:1436-1634922000-1634927400@austrianoccupationalscience.com
SUMMARY:2. Mitgliedertreffen
DESCRIPTION:Herzliche Einladung zum Denkraum zum Thema "Geschlechterrollen in der Ergotherapie aus handlungswissenschaftlicher Sicht" am 08.04.. Ganz ohne Anmeldung einfach über den folgenden Link via Zoom einsteigen: https://zoom.us/j/92032600524Wir freuen uns auf Euer Kommen!
URL:https://austrianoccupationalscience.com/event/2-mitgliedertreffen/
CATEGORIES:Mitgliedertreffen
ATTACH;FMTTYPE=image/jpeg:https://austrianoccupationalscience.com/wp-content/uploads/2021/09/Grafik_Mitgliedertreffen_22.10.2021.jpg
END:VEVENT
BEGIN:VEVENT
DTSTART;TZID=Europe/Vienna:20210430T170000
DTEND;TZID=Europe/Vienna:20210430T183000
DTSTAMP:20260421T211316
CREATED:20210608T185008Z
LAST-MODIFIED:20220123T174047Z
UID:1300-1619802000-1619807400@austrianoccupationalscience.com
SUMMARY:1. Mitgliedertreffen
DESCRIPTION:Herzliche Einladung zum Denkraum zum Thema "Geschlechterrollen in der Ergotherapie aus handlungswissenschaftlicher Sicht" am 08.04.. Ganz ohne Anmeldung einfach über den folgenden Link via Zoom einsteigen: https://zoom.us/j/92032600524Wir freuen uns auf Euer Kommen!
URL:https://austrianoccupationalscience.com/event/1-mitgliedertreffen-neu/
CATEGORIES:Mitgliedertreffen
ATTACH;FMTTYPE=image/png:https://austrianoccupationalscience.com/wp-content/uploads/2021/04/Mitgliedertreffen-AOS_300421_Grafik.png
END:VEVENT
BEGIN:VEVENT
DTSTART;TZID=Europe/Vienna:20210121T180000
DTEND;TZID=Europe/Vienna:20210121T200000
DTSTAMP:20260421T211316
CREATED:20210608T180809Z
LAST-MODIFIED:20220123T174059Z
UID:1275-1611252000-1611259200@austrianoccupationalscience.com
SUMMARY:Generalversammlung 2021
DESCRIPTION:Herzliche Einladung zum Denkraum zum Thema "Geschlechterrollen in der Ergotherapie aus handlungswissenschaftlicher Sicht" am 08.04.. Ganz ohne Anmeldung einfach über den folgenden Link via Zoom einsteigen: https://zoom.us/j/92032600524Wir freuen uns auf Euer Kommen!
URL:https://austrianoccupationalscience.com/event/generalversammlung-2021/
CATEGORIES:Generalversammlung
ATTACH;FMTTYPE=image/png:https://austrianoccupationalscience.com/wp-content/uploads/2020/10/img_0064.png
END:VEVENT
BEGIN:VEVENT
DTSTART;TZID=Europe/Vienna:20200917T080000
DTEND;TZID=Europe/Vienna:20200917T130000
DTSTAMP:20260421T211316
CREATED:20210608T180632Z
LAST-MODIFIED:20220123T174114Z
UID:1272-1600329600-1600347600@austrianoccupationalscience.com
SUMMARY:Konstituierende Sitzung & O'Science Day 2020
DESCRIPTION:Herzliche Einladung zum Denkraum zum Thema "Geschlechterrollen in der Ergotherapie aus handlungswissenschaftlicher Sicht" am 08.04.. Ganz ohne Anmeldung einfach über den folgenden Link via Zoom einsteigen: https://zoom.us/j/92032600524Wir freuen uns auf Euer Kommen!
URL:https://austrianoccupationalscience.com/event/konstituierende-sitzung-oscience-day-2020/
CATEGORIES:Konstituierende Sitzung,O'Science Day
END:VEVENT
END:VCALENDAR